BEGIN:VCALENDAR
VERSION:2.0
PRODID:-//Thomas Ströbel - ECPv6.15.20//NONSGML v1.0//EN
CALSCALE:GREGORIAN
METHOD:PUBLISH
X-ORIGINAL-URL:https://thomas-stroebel.de
X-WR-CALDESC:Veranstaltungen für Thomas Ströbel
REFRESH-INTERVAL;VALUE=DURATION:PT1H
X-Robots-Tag:noindex
X-PUBLISHED-TTL:PT1H
BEGIN:VTIMEZONE
TZID:Europe/Berlin
BEGIN:DAYLIGHT
TZOFFSETFROM:+0100
TZOFFSETTO:+0200
TZNAME:CEST
DTSTART:20250330T010000
END:DAYLIGHT
BEGIN:STANDARD
TZOFFSETFROM:+0200
TZOFFSETTO:+0100
TZNAME:CET
DTSTART:20251026T010000
END:STANDARD
BEGIN:DAYLIGHT
TZOFFSETFROM:+0100
TZOFFSETTO:+0200
TZNAME:CEST
DTSTART:20260329T010000
END:DAYLIGHT
BEGIN:STANDARD
TZOFFSETFROM:+0200
TZOFFSETTO:+0100
TZNAME:CET
DTSTART:20261025T010000
END:STANDARD
BEGIN:DAYLIGHT
TZOFFSETFROM:+0100
TZOFFSETTO:+0200
TZNAME:CEST
DTSTART:20270328T010000
END:DAYLIGHT
BEGIN:STANDARD
TZOFFSETFROM:+0200
TZOFFSETTO:+0100
TZNAME:CET
DTSTART:20271031T010000
END:STANDARD
END:VTIMEZONE
BEGIN:VEVENT
DTSTART;TZID=Europe/Berlin:20260325T100000
DTEND;TZID=Europe/Berlin:20260325T123000
DTSTAMP:20260419T172032
CREATED:20260225T131046Z
LAST-MODIFIED:20260225T135924Z
UID:10000989-1774432800-1774441800@thomas-stroebel.de
SUMMARY:Qualitätsentwicklung - Eppingen
DESCRIPTION:Interne Veranstaltung
URL:https://thomas-stroebel.de/event/qualitaetsentwicklung-eppingen/
LOCATION:Eppingen – Altes Forstamt\, Kaiserstr. 1/1\, Eppingen\, 75031\, Deutschland
CATEGORIES:Nur zur Info
ATTACH;FMTTYPE=image/jpeg:https://thomas-stroebel.de/wp-content/uploads/pixabay-keyboard-621832_1920.jpg
ORGANIZER;CN="VHS Eppingen":MAILTO:vhs@eppingen.de
GEO:49.1368948;8.9066723
X-APPLE-STRUCTURED-LOCATION;VALUE=URI;X-ADDRESS=Eppingen – Altes Forstamt Kaiserstr. 1/1 Eppingen 75031 Deutschland;X-APPLE-RADIUS=500;X-TITLE=Kaiserstr. 1/1:geo:8.9066723,49.1368948
END:VEVENT
END:VCALENDAR