BEGIN:VCALENDAR
VERSION:2.0
PRODID:-//Thomas Ströbel - ECPv6.15.20//NONSGML v1.0//EN
CALSCALE:GREGORIAN
METHOD:PUBLISH
X-ORIGINAL-URL:https://thomas-stroebel.de
X-WR-CALDESC:Veranstaltungen für Thomas Ströbel
REFRESH-INTERVAL;VALUE=DURATION:PT1H
X-Robots-Tag:noindex
X-PUBLISHED-TTL:PT1H
BEGIN:VTIMEZONE
TZID:Europe/Berlin
BEGIN:DAYLIGHT
TZOFFSETFROM:+0100
TZOFFSETTO:+0200
TZNAME:CEST
DTSTART:20250330T010000
END:DAYLIGHT
BEGIN:STANDARD
TZOFFSETFROM:+0200
TZOFFSETTO:+0100
TZNAME:CET
DTSTART:20251026T010000
END:STANDARD
BEGIN:DAYLIGHT
TZOFFSETFROM:+0100
TZOFFSETTO:+0200
TZNAME:CEST
DTSTART:20260329T010000
END:DAYLIGHT
BEGIN:STANDARD
TZOFFSETFROM:+0200
TZOFFSETTO:+0100
TZNAME:CET
DTSTART:20261025T010000
END:STANDARD
BEGIN:DAYLIGHT
TZOFFSETFROM:+0100
TZOFFSETTO:+0200
TZNAME:CEST
DTSTART:20270328T010000
END:DAYLIGHT
BEGIN:STANDARD
TZOFFSETFROM:+0200
TZOFFSETTO:+0100
TZNAME:CET
DTSTART:20271031T010000
END:STANDARD
END:VTIMEZONE
BEGIN:VEVENT
DTSTART;TZID=Europe/Berlin:20260615T083000
DTEND;TZID=Europe/Berlin:20260615T120000
DTSTAMP:20260419T185539
CREATED:20260201T155518Z
LAST-MODIFIED:20260201T162124Z
UID:10000961-1781512200-1781524800@thomas-stroebel.de
SUMMARY:Excel Basic-Firmenschulung - Online (Unterland)
DESCRIPTION:Firmenseminar
URL:https://thomas-stroebel.de/event/excel-basic-firmenschulung-online-unterland-3/2026-06-15/
CATEGORIES:Firmenschulung
ATTACH;FMTTYPE=image/jpeg:https://thomas-stroebel.de/wp-content/uploads/123RF-122825093_s.jpg
ORGANIZER;CN="VHS Unterland":MAILTO:info@vhs-unterland.de
END:VEVENT
BEGIN:VEVENT
DTSTART;TZID=Europe/Berlin:20260616T083000
DTEND;TZID=Europe/Berlin:20260616T120000
DTSTAMP:20260419T185539
CREATED:20260201T155518Z
LAST-MODIFIED:20260201T162124Z
UID:10000976-1781598600-1781611200@thomas-stroebel.de
SUMMARY:Excel Basic-Firmenschulung - Online (Unterland)
DESCRIPTION:Firmenseminar
URL:https://thomas-stroebel.de/event/excel-basic-firmenschulung-online-unterland-3/2026-06-16/
CATEGORIES:Firmenschulung
ATTACH;FMTTYPE=image/jpeg:https://thomas-stroebel.de/wp-content/uploads/123RF-122825093_s.jpg
ORGANIZER;CN="VHS Unterland":MAILTO:info@vhs-unterland.de
END:VEVENT
BEGIN:VEVENT
DTSTART;TZID=Europe/Berlin:20260617T083000
DTEND;TZID=Europe/Berlin:20260617T120000
DTSTAMP:20260419T185539
CREATED:20260201T155518Z
LAST-MODIFIED:20260201T162124Z
UID:10000977-1781685000-1781697600@thomas-stroebel.de
SUMMARY:Excel Basic-Firmenschulung - Online (Unterland)
DESCRIPTION:Firmenseminar
URL:https://thomas-stroebel.de/event/excel-basic-firmenschulung-online-unterland-3/2026-06-17/
CATEGORIES:Firmenschulung
ATTACH;FMTTYPE=image/jpeg:https://thomas-stroebel.de/wp-content/uploads/123RF-122825093_s.jpg
ORGANIZER;CN="VHS Unterland":MAILTO:info@vhs-unterland.de
END:VEVENT
END:VCALENDAR