BEGIN:VCALENDAR
VERSION:2.0
PRODID:-//Thomas Ströbel - ECPv6.15.20//NONSGML v1.0//EN
CALSCALE:GREGORIAN
METHOD:PUBLISH
X-WR-CALNAME:Thomas Ströbel
X-ORIGINAL-URL:https://thomas-stroebel.de
X-WR-CALDESC:Veranstaltungen für Thomas Ströbel
REFRESH-INTERVAL;VALUE=DURATION:PT1H
X-Robots-Tag:noindex
X-PUBLISHED-TTL:PT1H
BEGIN:VTIMEZONE
TZID:Europe/Berlin
BEGIN:DAYLIGHT
TZOFFSETFROM:+0100
TZOFFSETTO:+0200
TZNAME:CEST
DTSTART:20250330T010000
END:DAYLIGHT
BEGIN:STANDARD
TZOFFSETFROM:+0200
TZOFFSETTO:+0100
TZNAME:CET
DTSTART:20251026T010000
END:STANDARD
BEGIN:DAYLIGHT
TZOFFSETFROM:+0100
TZOFFSETTO:+0200
TZNAME:CEST
DTSTART:20260329T010000
END:DAYLIGHT
BEGIN:STANDARD
TZOFFSETFROM:+0200
TZOFFSETTO:+0100
TZNAME:CET
DTSTART:20261025T010000
END:STANDARD
BEGIN:DAYLIGHT
TZOFFSETFROM:+0100
TZOFFSETTO:+0200
TZNAME:CEST
DTSTART:20270328T010000
END:DAYLIGHT
BEGIN:STANDARD
TZOFFSETFROM:+0200
TZOFFSETTO:+0100
TZNAME:CET
DTSTART:20271031T010000
END:STANDARD
END:VTIMEZONE
BEGIN:VEVENT
DTSTART;TZID=Europe/Berlin:20260128T140000
DTEND;TZID=Europe/Berlin:20260128T153000
DTSTAMP:20260420T194427
CREATED:20250415T175500Z
LAST-MODIFIED:20250415T175500Z
UID:10000871-1769608800-1769614200@thomas-stroebel.de
SUMMARY:Smartphone für Senioren - Top-Fotos fotografieren - Lauffen
DESCRIPTION:Smartphones bieten eine praktische Alternative zur Fotokamera. Doch die Geräte haben meist sehr viele Funktionen\, die nicht sofort ersichtlich sind.  \nIn diesem Kurs in langsamem Tempo werden vor allem die Kamera-Funktionen Ihres Smartphones gezeigt. Außerdem lernen Sie noch viele Kniffe und Regeln\, die aus einem einfachen Foto ein kleines Kunstwerk machen können.  \nDer Kurs ist für alle Smartphones mit einer eingebauten Kamera geeignet.
URL:https://thomas-stroebel.de/event/smartphone-fuer-senioren-top-fotos-fotografieren-lauffen/
LOCATION:Lauffen – Hölderlinhaus\, Nordheimer Str. 5\, Lauffen\, 74348\, Germany
CATEGORIES:Smartphone
ATTACH;FMTTYPE=image/jpeg:https://thomas-stroebel.de/wp-content/uploads/woman-7262573_1920.jpg
ORGANIZER;CN="VHS Lauffen":MAILTO:lauffen@vhs-unterland.de
GEO:49.0795693;9.1529507
X-APPLE-STRUCTURED-LOCATION;VALUE=URI;X-ADDRESS=Lauffen – Hölderlinhaus Nordheimer Str. 5 Lauffen 74348 Germany;X-APPLE-RADIUS=500;X-TITLE=Nordheimer Str. 5:geo:9.1529507,49.0795693
END:VEVENT
BEGIN:VEVENT
DTSTART;TZID=Europe/Berlin:20260129T100000
DTEND;TZID=Europe/Berlin:20260129T121500
DTSTAMP:20260420T194427
CREATED:20250415T174502Z
LAST-MODIFIED:20260129T091123Z
UID:10000850-1769680800-1769688900@thomas-stroebel.de
SUMMARY:Smartphone und Tablet für Senioren - Kirchardt
DESCRIPTION:Smartphones und Tablets sind aus dem heutigen Alltag nicht mehr wegzudenken und für die meisten Menschen ständige Begleiter. Mit den Geräten lässt sich viel machen – allerdings muss man auch damit umgehen können. \nIn diesem Kurs in langsamen Tempo werden alle Ihre Fragen zu Ihrem Smartphone beantwortet. Außerdem gibt es viele Erklärungen und Hinweise zum einfachen Bedienen Ihres Gerätes. Ebenso werden viele interessante Apps gezeigt\, die Ihnen noch mehr Möglichkeiten mit Ihrem Smartphone bieten können. \nNatürlich können Sie bei dem Kurs direkt mit Ihrem Gerät mitmachen. \nDer Kurs ist für Besitzer und Interessenten aller gängigen aktuellen Smartphones geeignet. Wer während des Kurses Apps installieren will\, muss seine Anmeldeinformationen für den Google-Play-Store oder den iPhone-App-Store mitbringen.
URL:https://thomas-stroebel.de/event/smartphone-und-tablet-fuer-senioren-kirchardt-3/
LOCATION:Kirchardt – Birkenbachschule\, Goethestraße 3\, Kirchardt\, 74912\, Germany
CATEGORIES:Smartphone
ATTACH;FMTTYPE=image/jpeg:https://thomas-stroebel.de/wp-content/uploads/pixabay-ai-generated-8950845_1920.jpg
ORGANIZER;CN="VHS Kirchardt":MAILTO:kirchardt@vhs-unterland.de
GEO:49.2044438;8.9877454
X-APPLE-STRUCTURED-LOCATION;VALUE=URI;X-ADDRESS=Kirchardt – Birkenbachschule Goethestraße 3 Kirchardt 74912 Germany;X-APPLE-RADIUS=500;X-TITLE=Goethestraße 3:geo:8.9877454,49.2044438
END:VEVENT
END:VCALENDAR