BEGIN:VCALENDAR
VERSION:2.0
PRODID:-//Thomas Ströbel - ECPv6.15.20//NONSGML v1.0//EN
CALSCALE:GREGORIAN
METHOD:PUBLISH
X-ORIGINAL-URL:https://thomas-stroebel.de
X-WR-CALDESC:Veranstaltungen für Thomas Ströbel
REFRESH-INTERVAL;VALUE=DURATION:PT1H
X-Robots-Tag:noindex
X-PUBLISHED-TTL:PT1H
BEGIN:VTIMEZONE
TZID:Europe/Berlin
BEGIN:DAYLIGHT
TZOFFSETFROM:+0100
TZOFFSETTO:+0200
TZNAME:CEST
DTSTART:20250330T010000
END:DAYLIGHT
BEGIN:STANDARD
TZOFFSETFROM:+0200
TZOFFSETTO:+0100
TZNAME:CET
DTSTART:20251026T010000
END:STANDARD
BEGIN:DAYLIGHT
TZOFFSETFROM:+0100
TZOFFSETTO:+0200
TZNAME:CEST
DTSTART:20260329T010000
END:DAYLIGHT
BEGIN:STANDARD
TZOFFSETFROM:+0200
TZOFFSETTO:+0100
TZNAME:CET
DTSTART:20261025T010000
END:STANDARD
BEGIN:DAYLIGHT
TZOFFSETFROM:+0100
TZOFFSETTO:+0200
TZNAME:CEST
DTSTART:20270328T010000
END:DAYLIGHT
BEGIN:STANDARD
TZOFFSETFROM:+0200
TZOFFSETTO:+0100
TZNAME:CET
DTSTART:20271031T010000
END:STANDARD
END:VTIMEZONE
BEGIN:VEVENT
DTSTART;TZID=Europe/Berlin:20260312T140000
DTEND;TZID=Europe/Berlin:20260312T161500
DTSTAMP:20260420T164326
CREATED:20260201T154256Z
LAST-MODIFIED:20260201T154256Z
UID:10000924-1773324000-1773332100@thomas-stroebel.de
SUMMARY:Smartphone und Tablet für Senioren - Kirchardt
DESCRIPTION:Smartphones und Tablets sind aus dem heutigen Alltag nicht mehr wegzudenken und für die meisten Menschen ständige Begleiter. Mit den Geräten lässt sich viel machen – allerdings muss man auch damit umgehen können. \nIn diesem Kurs in langsamen Tempo werden alle Ihre Fragen zu Ihrem Smartphone beantwortet. Außerdem gibt es viele Erklärungen und Hinweise zum einfachen Bedienen Ihres Gerätes. Ebenso werden viele interessante Apps gezeigt\, die Ihnen noch mehr Möglichkeiten mit Ihrem Smartphone bieten können. \nNatürlich können Sie bei dem Kurs direkt mit Ihrem Gerät mitmachen. \nDer Kurs ist für Besitzer und Interessenten aller gängigen aktuellen Smartphones geeignet. Wer während des Kurses Apps installieren will\, muss seine Anmeldeinformationen für den Google-Play-Store oder den iPhone-App-Store mitbringen.
URL:https://thomas-stroebel.de/event/smartphone-und-tablet-fuer-senioren-kirchardt/
LOCATION:Kirchardt – Birkenbachschule\, Goethestraße 3\, Kirchardt\, 74912\, Germany
CATEGORIES:Smartphone
ATTACH;FMTTYPE=image/jpeg:https://thomas-stroebel.de/wp-content/uploads/pixabay-ai-generated-8950845_1920.jpg
ORGANIZER;CN="VHS Kirchardt":MAILTO:kirchardt@vhs-unterland.de
GEO:49.2044438;8.9877454
X-APPLE-STRUCTURED-LOCATION;VALUE=URI;X-ADDRESS=Kirchardt – Birkenbachschule Goethestraße 3 Kirchardt 74912 Germany;X-APPLE-RADIUS=500;X-TITLE=Goethestraße 3:geo:8.9877454,49.2044438
END:VEVENT
BEGIN:VEVENT
DTSTART;TZID=Europe/Berlin:20260317T150000
DTEND;TZID=Europe/Berlin:20260317T171500
DTSTAMP:20260420T164326
CREATED:20260201T154300Z
LAST-MODIFIED:20260201T154300Z
UID:10000926-1773759600-1773767700@thomas-stroebel.de
SUMMARY:Smartphone und Tablet für Senioren - Gundelsheim
DESCRIPTION:Smartphones und Tablets sind aus dem heutigen Alltag nicht mehr wegzudenken und für die meisten Menschen ständige Begleiter. Mit den Geräten lässt sich viel machen – allerdings muss man auch damit umgehen können. \nIn diesem Kurs in langsamen Tempo werden alle Ihre Fragen zu Ihrem Smartphone beantwortet. Außerdem gibt es viele Erklärungen und Hinweise zum einfachen Bedienen Ihres Gerätes. Ebenso werden viele interessante Apps gezeigt\, die Ihnen noch mehr Möglichkeiten mit Ihrem Smartphone bieten können. \nNatürlich können Sie bei dem Kurs direkt mit Ihrem Gerät mitmachen. \nDer Kurs ist für Besitzer und Interessenten aller gängigen aktuellen Smartphones geeignet. Wer während des Kurses Apps installieren will\, muss seine Anmeldeinformationen für den Google-Play-Store oder den iPhone-App-Store mitbringen.
URL:https://thomas-stroebel.de/event/smartphone-und-tablet-fuer-senioren-gundelsheim-3/
LOCATION:Gundelsheim – Horneckschule\, Panoramastraße 22-24\, Gundelsheim\, 74831\, Germany
CATEGORIES:Smartphone
ATTACH;FMTTYPE=image/jpeg:https://thomas-stroebel.de/wp-content/uploads/pixabay-ai-generated-8950845_1920.jpg
ORGANIZER;CN="VHS Gundelsheim":MAILTO:gundelsheim@vhs-unterland.de
GEO:49.2860871;9.1631831
X-APPLE-STRUCTURED-LOCATION;VALUE=URI;X-ADDRESS=Gundelsheim – Horneckschule Panoramastraße 22-24 Gundelsheim 74831 Germany;X-APPLE-RADIUS=500;X-TITLE=Panoramastraße 22-24:geo:9.1631831,49.2860871
END:VEVENT
END:VCALENDAR